View In:
ArcGIS JavaScript
ArcGIS Online Map Viewer
ArcGIS Earth
Service Description: Flygfoto 1984 Burlövs kommun
Name: Flygfoto/Flygfoto_1984
Description: Flygfoto 1984 Burlövs kommun
Single Fused Map Cache: false
Extent:
XMin: 118860.40538335602
YMin: 6163514.811173252
XMax: 126586.46157985022
YMax: 6171730.927910594
Spatial Reference: 3008
(3008)
VCSWkid(5718)
LatestVCSWkid(5718)
Initial Extent:
XMin: 118860.40538335602
YMin: 6163514.811173252
XMax: 126586.46157985022
YMax: 6171730.927910594
Spatial Reference: 3008
(3008)
VCSWkid(5718)
LatestVCSWkid(5718)
Full Extent:
XMin: 118860.40538335602
YMin: 6163514.811173252
XMax: 126586.46157985022
YMax: 6171730.927910594
Spatial Reference: 3008
(3008)
VCSWkid(5718)
LatestVCSWkid(5718)
Pixel Size X: 1.3698681199457805
Pixel Size Y: 1.3542305484329058
Band Count: 1
Pixel Type: U8
RasterFunction Infos: {"rasterFunctionInfos": [{
"name": "None",
"description": "",
"help": ""
}]}
Mensuration Capabilities: Basic
Has Histograms: true
Has Colormap: false
Has Multi Dimensions : false
Rendering Rule:
Min Scale: 0
Max Scale: 0
Copyright Text:
Service Data Type: esriImageServiceDataTypeGeneric
Min Values: 17
Max Values: 255
Mean Values: 113.47652195285038
Standard Deviation Values: 45.32959931913075
Object ID Field:
Fields:
None
Default Mosaic Method: Center
Allowed Mosaic Methods:
SortField:
SortValue: null
Mosaic Operator: First
Default Compression Quality: 75
Default Resampling Method: Bilinear
Max Record Count: null
Max Image Height: 4100
Max Image Width: 15000
Max Download Image Count: null
Max Mosaic Image Count: null
Allow Raster Function: true
Allow Copy: true
Allow Analysis: true
Allow Compute TiePoints: false
Supports Statistics: false
Supports Advanced Queries: false
Use StandardizedQueries: true
Raster Type Infos:
Name: Raster Dataset
Description: Supports all ArcGIS Raster Datasets
Help:
Has Raster Attribute Table: false
Edit Fields Info: null
Ownership Based AccessControl For Rasters: null
Child Resources:
Info
Histograms
Statistics
Key Properties
Legend
Raster Function Infos
Supported Operations:
Export Image
Identify
Measure
Compute Histograms
Compute Statistics Histograms
Get Samples
Compute Class Statistics
Query Boundary
Compute Pixel Location
Compute Angles
Validate
Project