{
 "currentVersion": 11.1,
 "serviceDescription": "Flygfoto 1984 Burlövs kommun",
 "name": "Flygfoto/Flygfoto_1984",
 "description": "Flygfoto 1984 Burlövs kommun",
 "extent": {
  "xmin": 118860.40538335602,
  "ymin": 6163514.811173252,
  "xmax": 126586.46157985022,
  "ymax": 6171730.927910594,
  "spatialReference": {
   "wkid": 3008,
   "latestWkid": 3008,
   "vcsWkid": 5718,
   "latestVcsWkid": 5718
  }
 },
 "initialExtent": {
  "xmin": 118860.40538335602,
  "ymin": 6163514.811173252,
  "xmax": 126586.46157985022,
  "ymax": 6171730.927910594,
  "spatialReference": {
   "wkid": 3008,
   "latestWkid": 3008,
   "vcsWkid": 5718,
   "latestVcsWkid": 5718
  }
 },
 "fullExtent": {
  "xmin": 118860.40538335602,
  "ymin": 6163514.811173252,
  "xmax": 126586.46157985022,
  "ymax": 6171730.927910594,
  "spatialReference": {
   "wkid": 3008,
   "latestWkid": 3008,
   "vcsWkid": 5718,
   "latestVcsWkid": 5718
  }
 },
 "sortableFields": "",
 "heightModelInfo": {
  "heightModel": "gravity_related_height",
  "vertCRS": "RH70",
  "heightUnit": "meter"
 },
 "bandCount": 1,
 "pixelType": "U8",
 "minValues": [
  17
 ],
 "maxValues": [
  255
 ],
 "meanValues": [
  113.47652195285038
 ],
 "stdvValues": [
  45.32959931913075
 ],
 "hasMultidimensions": false,
 "pixelSizeX": 1.3698681199457805,
 "pixelSizeY": 1.3542305484329058,
 "datasetFormat": "SDR",
 "uncompressedSize": 34217880,
 "blockWidth": 128,
 "blockHeight": 128,
 "compressionType": "LZ77",
 "bandNames": [
  "Band_1"
 ],
 "allowCopy": true,
 "allowAnalysis": true,
 "itemAccess": false,
 "minPixelSize": 0,
 "maxPixelSize": 0,
 "copyrightText": "",
 "serviceDataType": "esriImageServiceDataTypeGeneric",
 "serviceSourceType": "esriImageServiceSourceTypeDataset",
 "objectIdField": "",
 "fields": [],
 "capabilities": "Image,Metadata,Mensuration",
 "defaultMosaicMethod": "Center",
 "allowedMosaicMethods": "",
 "sortField": "",
 "sortValue": null,
 "sortAscending": true,
 "mosaicOperator": "First",
 "defaultCompressionQuality": 75,
 "defaultResamplingMethod": "Bilinear",
 "maxImageHeight": 4100,
 "maxImageWidth": 15000,
 "allowRasterFunction": true,
 "rasterFunctionInfos": [
  {
   "name": "None",
   "description": "",
   "help": ""
  }
 ],
 "rasterTypeInfos": [
  {
   "name": "Raster Dataset",
   "description": "Supports all ArcGIS Raster Datasets",
   "help": ""
  }
 ],
 "mensurationCapabilities": "Basic",
 "hasHistograms": true,
 "hasColormap": false,
 "hasRasterAttributeTable": false,
 "minScale": 0,
 "maxScale": 0,
 "exportTilesAllowed": false,
 "supportsStatistics": false,
 "supportsAdvancedQueries": false,
 "editFieldsInfo": null,
 "ownershipBasedAccessControlForRasters": null,
 "allowComputeTiePoints": false,
 "useStandardizedQueries": true,
 "advancedQueryCapabilities": {
  "useStandardizedQueries": true,
  "supportsStatistics": false,
  "supportsOrderBy": false,
  "supportsDistinct": false,
  "supportsPagination": false
 },
 "spatialReference": {
  "wkid": 3008,
  "latestWkid": 3008,
  "vcsWkid": 5718,
  "latestVcsWkid": 5718
 }
}
