View In:
ArcGIS JavaScript
ArcGIS Online Map Viewer
ArcGIS Earth
Service Description: Flygfoto 1967 Burlövs kommun
Name: Flygfoto/Flygfoto_1967
Description: Flygfoto 1967 Burlövs kommun
Single Fused Map Cache: false
Extent:
XMin: 118856.93644086951
YMin: 6164420.131234481
XMax: 126289.61582387744
YMax: 6172012.642283017
Spatial Reference: 3008
(3008)
VCSWkid(5718)
LatestVCSWkid(5718)
Initial Extent:
XMin: 118856.93644086951
YMin: 6164420.131234481
XMax: 126289.61582387744
YMax: 6172012.642283017
Spatial Reference: 3008
(3008)
VCSWkid(5718)
LatestVCSWkid(5718)
Full Extent:
XMin: 118856.93644086951
YMin: 6164420.131234481
XMax: 126289.61582387744
YMax: 6172012.642283017
Spatial Reference: 3008
(3008)
VCSWkid(5718)
LatestVCSWkid(5718)
Pixel Size X: 2.641321742362447
Pixel Size Y: 2.647319054580131
Band Count: 3
Pixel Type: U8
RasterFunction Infos: {"rasterFunctionInfos": [{
"name": "None",
"description": "",
"help": ""
}]}
Mensuration Capabilities: Basic
Has Histograms: true
Has Colormap: false
Has Multi Dimensions : false
Rendering Rule:
Min Scale: 0
Max Scale: 0
Copyright Text:
Service Data Type: esriImageServiceDataTypeRGB
Min Values: 0, 0, 0
Max Values: 255, 255, 255
Mean Values: 82.52431543715969, 82.52431543715969, 82.52431543715969
Standard Deviation Values: 47.66724406996447, 47.667242593384934, 47.66724210119179
Object ID Field:
Fields:
None
Default Mosaic Method: Center
Allowed Mosaic Methods:
SortField:
SortValue: null
Mosaic Operator: First
Default Compression Quality: 75
Default Resampling Method: Bilinear
Max Record Count: null
Max Image Height: 4100
Max Image Width: 15000
Max Download Image Count: null
Max Mosaic Image Count: null
Allow Raster Function: true
Allow Copy: true
Allow Analysis: true
Allow Compute TiePoints: false
Supports Statistics: false
Supports Advanced Queries: false
Use StandardizedQueries: true
Raster Type Infos:
Name: Raster Dataset
Description: Supports all ArcGIS Raster Datasets
Help:
Has Raster Attribute Table: false
Edit Fields Info: null
Ownership Based AccessControl For Rasters: null
Child Resources:
Info
Histograms
Statistics
Key Properties
Legend
Raster Function Infos
Supported Operations:
Export Image
Identify
Measure
Compute Histograms
Compute Statistics Histograms
Get Samples
Compute Class Statistics
Query Boundary
Compute Pixel Location
Compute Angles
Validate
Project