{
 "currentVersion": 11.1,
 "serviceDescription": "Flygfoto 1967 Burlövs kommun",
 "name": "Flygfoto/Flygfoto_1967",
 "description": "Flygfoto 1967 Burlövs kommun",
 "extent": {
  "xmin": 118856.93644086951,
  "ymin": 6164420.131234481,
  "xmax": 126289.61582387744,
  "ymax": 6172012.642283017,
  "spatialReference": {
   "wkid": 3008,
   "latestWkid": 3008,
   "vcsWkid": 5718,
   "latestVcsWkid": 5718
  }
 },
 "initialExtent": {
  "xmin": 118856.93644086951,
  "ymin": 6164420.131234481,
  "xmax": 126289.61582387744,
  "ymax": 6172012.642283017,
  "spatialReference": {
   "wkid": 3008,
   "latestWkid": 3008,
   "vcsWkid": 5718,
   "latestVcsWkid": 5718
  }
 },
 "fullExtent": {
  "xmin": 118856.93644086951,
  "ymin": 6164420.131234481,
  "xmax": 126289.61582387744,
  "ymax": 6172012.642283017,
  "spatialReference": {
   "wkid": 3008,
   "latestWkid": 3008,
   "vcsWkid": 5718,
   "latestVcsWkid": 5718
  }
 },
 "sortableFields": "",
 "heightModelInfo": {
  "heightModel": "gravity_related_height",
  "vertCRS": "RH70",
  "heightUnit": "meter"
 },
 "bandCount": 3,
 "pixelType": "U8",
 "minValues": [
  0,
  0,
  0
 ],
 "maxValues": [
  255,
  255,
  255
 ],
 "meanValues": [
  82.52431543715969,
  82.52431543715969,
  82.52431543715969
 ],
 "stdvValues": [
  47.66724406996447,
  47.667242593384934,
  47.66724210119179
 ],
 "hasMultidimensions": false,
 "pixelSizeX": 2.641321742362447,
 "pixelSizeY": 2.647319054580131,
 "datasetFormat": "SDR",
 "uncompressedSize": 24211656,
 "blockWidth": 128,
 "blockHeight": 128,
 "compressionType": "LZ77",
 "bandNames": [
  "Band_1",
  "Band_2",
  "Band_3"
 ],
 "allowCopy": true,
 "allowAnalysis": true,
 "itemAccess": false,
 "minPixelSize": 0,
 "maxPixelSize": 0,
 "copyrightText": "",
 "serviceDataType": "esriImageServiceDataTypeRGB",
 "serviceSourceType": "esriImageServiceSourceTypeDataset",
 "objectIdField": "",
 "fields": [],
 "capabilities": "Image,Metadata,Mensuration",
 "defaultMosaicMethod": "Center",
 "allowedMosaicMethods": "",
 "sortField": "",
 "sortValue": null,
 "sortAscending": true,
 "mosaicOperator": "First",
 "defaultCompressionQuality": 75,
 "defaultResamplingMethod": "Bilinear",
 "maxImageHeight": 4100,
 "maxImageWidth": 15000,
 "allowRasterFunction": true,
 "rasterFunctionInfos": [
  {
   "name": "None",
   "description": "",
   "help": ""
  }
 ],
 "rasterTypeInfos": [
  {
   "name": "Raster Dataset",
   "description": "Supports all ArcGIS Raster Datasets",
   "help": ""
  }
 ],
 "mensurationCapabilities": "Basic",
 "hasHistograms": true,
 "hasColormap": false,
 "hasRasterAttributeTable": false,
 "minScale": 0,
 "maxScale": 0,
 "exportTilesAllowed": false,
 "supportsStatistics": false,
 "supportsAdvancedQueries": false,
 "editFieldsInfo": null,
 "ownershipBasedAccessControlForRasters": null,
 "allowComputeTiePoints": false,
 "useStandardizedQueries": true,
 "advancedQueryCapabilities": {
  "useStandardizedQueries": true,
  "supportsStatistics": false,
  "supportsOrderBy": false,
  "supportsDistinct": false,
  "supportsPagination": false
 },
 "spatialReference": {
  "wkid": 3008,
  "latestWkid": 3008,
  "vcsWkid": 5718,
  "latestVcsWkid": 5718
 }
}
