View In:
ArcGIS JavaScript
ArcGIS Online Map Viewer
ArcGIS Earth
Service Description: Skanska rekognoseringskartan 1812
Name: Bakgrundskartor/Skanska_rekognoseringskartan_1812
Description: Skanska rekognoseringskartan 1812
Single Fused Map Cache: false
Extent:
XMin: 120705.51178607516
YMin: 6162528.915106424
XMax: 133486.38560408974
YMax: 6171560.348206068
Spatial Reference: 3008
(3008)
VCSWkid(5718)
LatestVCSWkid(5718)
Initial Extent:
XMin: 120705.51178607516
YMin: 6162528.915106424
XMax: 133486.38560408974
YMax: 6171560.348206068
Spatial Reference: 3008
(3008)
VCSWkid(5718)
LatestVCSWkid(5718)
Full Extent:
XMin: 120705.51178607516
YMin: 6162528.915106424
XMax: 133486.38560408974
YMax: 6171560.348206068
Spatial Reference: 3008
(3008)
VCSWkid(5718)
LatestVCSWkid(5718)
Pixel Size X: 3.864794018147739
Pixel Size Y: 3.8628884087443365
Band Count: 3
Pixel Type: U8
RasterFunction Infos: {"rasterFunctionInfos": [{
"name": "None",
"description": "",
"help": ""
}]}
Mensuration Capabilities: Basic
Has Histograms: true
Has Colormap: false
Has Multi Dimensions : false
Rendering Rule:
Min Scale: 0
Max Scale: 0
Copyright Text:
Service Data Type: esriImageServiceDataTypeRGB
Min Values: 0, 0, 0
Max Values: 255, 255, 255
Mean Values: 235.13675491472452, 235.39643181130936, 234.92460183094005
Standard Deviation Values: 50.08463133289322, 49.74627272484242, 49.60368843512577
Object ID Field:
Fields:
None
Default Mosaic Method: Center
Allowed Mosaic Methods:
SortField:
SortValue: null
Mosaic Operator: First
Default Compression Quality: 75
Default Resampling Method: Bilinear
Max Record Count: null
Max Image Height: 4100
Max Image Width: 15000
Max Download Image Count: null
Max Mosaic Image Count: null
Allow Raster Function: true
Allow Copy: true
Allow Analysis: true
Allow Compute TiePoints: false
Supports Statistics: false
Supports Advanced Queries: false
Use StandardizedQueries: true
Raster Type Infos:
Name: Raster Dataset
Description: Supports all ArcGIS Raster Datasets
Help:
Has Raster Attribute Table: false
Edit Fields Info: null
Ownership Based AccessControl For Rasters: null
Child Resources:
Info
Histograms
Statistics
Key Properties
Legend
Raster Function Infos
Supported Operations:
Export Image
Identify
Measure
Compute Histograms
Compute Statistics Histograms
Get Samples
Compute Class Statistics
Query Boundary
Compute Pixel Location
Compute Angles
Validate
Project