{
 "currentVersion": 11.1,
 "serviceDescription": "Skanska rekognoseringskartan 1812",
 "name": "Bakgrundskartor/Skanska_rekognoseringskartan_1812",
 "description": "Skanska rekognoseringskartan 1812",
 "extent": {
  "xmin": 120705.51178607516,
  "ymin": 6162528.915106424,
  "xmax": 133486.38560408974,
  "ymax": 6171560.348206068,
  "spatialReference": {
   "wkid": 3008,
   "latestWkid": 3008,
   "vcsWkid": 5718,
   "latestVcsWkid": 5718
  }
 },
 "initialExtent": {
  "xmin": 120705.51178607516,
  "ymin": 6162528.915106424,
  "xmax": 133486.38560408974,
  "ymax": 6171560.348206068,
  "spatialReference": {
   "wkid": 3008,
   "latestWkid": 3008,
   "vcsWkid": 5718,
   "latestVcsWkid": 5718
  }
 },
 "fullExtent": {
  "xmin": 120705.51178607516,
  "ymin": 6162528.915106424,
  "xmax": 133486.38560408974,
  "ymax": 6171560.348206068,
  "spatialReference": {
   "wkid": 3008,
   "latestWkid": 3008,
   "vcsWkid": 5718,
   "latestVcsWkid": 5718
  }
 },
 "sortableFields": "",
 "heightModelInfo": {
  "heightModel": "gravity_related_height",
  "vertCRS": "RH70",
  "heightUnit": "meter"
 },
 "bandCount": 3,
 "pixelType": "U8",
 "minValues": [
  0,
  0,
  0
 ],
 "maxValues": [
  255,
  255,
  255
 ],
 "meanValues": [
  235.13675491472452,
  235.39643181130936,
  234.92460183094005
 ],
 "stdvValues": [
  50.08463133289322,
  49.74627272484242,
  49.60368843512577
 ],
 "hasMultidimensions": false,
 "pixelSizeX": 3.864794018147739,
 "pixelSizeY": 3.8628884087443365,
 "datasetFormat": "SDR",
 "uncompressedSize": 23195298,
 "blockWidth": 128,
 "blockHeight": 128,
 "compressionType": "LZ77",
 "bandNames": [
  "Band_1",
  "Band_2",
  "Band_3"
 ],
 "allowCopy": true,
 "allowAnalysis": true,
 "itemAccess": false,
 "minPixelSize": 0,
 "maxPixelSize": 0,
 "copyrightText": "",
 "serviceDataType": "esriImageServiceDataTypeRGB",
 "serviceSourceType": "esriImageServiceSourceTypeDataset",
 "objectIdField": "",
 "fields": [],
 "capabilities": "Image,Metadata,Mensuration",
 "defaultMosaicMethod": "Center",
 "allowedMosaicMethods": "",
 "sortField": "",
 "sortValue": null,
 "sortAscending": true,
 "mosaicOperator": "First",
 "defaultCompressionQuality": 75,
 "defaultResamplingMethod": "Bilinear",
 "maxImageHeight": 4100,
 "maxImageWidth": 15000,
 "allowRasterFunction": true,
 "rasterFunctionInfos": [
  {
   "name": "None",
   "description": "",
   "help": ""
  }
 ],
 "rasterTypeInfos": [
  {
   "name": "Raster Dataset",
   "description": "Supports all ArcGIS Raster Datasets",
   "help": ""
  }
 ],
 "mensurationCapabilities": "Basic",
 "hasHistograms": true,
 "hasColormap": false,
 "hasRasterAttributeTable": false,
 "minScale": 0,
 "maxScale": 0,
 "exportTilesAllowed": false,
 "supportsStatistics": false,
 "supportsAdvancedQueries": false,
 "editFieldsInfo": null,
 "ownershipBasedAccessControlForRasters": null,
 "allowComputeTiePoints": false,
 "useStandardizedQueries": true,
 "advancedQueryCapabilities": {
  "useStandardizedQueries": true,
  "supportsStatistics": false,
  "supportsOrderBy": false,
  "supportsDistinct": false,
  "supportsPagination": false
 },
 "spatialReference": {
  "wkid": 3008,
  "latestWkid": 3008,
  "vcsWkid": 5718,
  "latestVcsWkid": 5718
 }
}
