View In:
ArcGIS JavaScript
ArcGIS Online Map Viewer
ArcGIS Earth
Service Description: Flygfoto 1973 Burlövs kommun.
Name: Flygfoto/Flygfoto_1973
Description: Flygfoto 1973 Burlövs kommun.
Single Fused Map Cache: false
Extent:
XMin: 118780.87634807103
YMin: 6164044.4606908765
XMax: 126226.31232584806
YMax: 6171643.358189757
Spatial Reference: 3008
(3008)
VCSWkid(5718)
LatestVCSWkid(5718)
Initial Extent:
XMin: 118780.87634807103
YMin: 6164044.4606908765
XMax: 126226.31232584806
YMax: 6171643.358189757
Spatial Reference: 3008
(3008)
VCSWkid(5718)
LatestVCSWkid(5718)
Full Extent:
XMin: 118780.87634807103
YMin: 6164044.4606908765
XMax: 126226.31232584806
YMax: 6171643.358189757
Spatial Reference: 3008
(3008)
VCSWkid(5718)
LatestVCSWkid(5718)
Pixel Size X: 2.645855002763692
Pixel Size Y: 2.649545850376748
Band Count: 3
Pixel Type: U8
RasterFunction Infos: {"rasterFunctionInfos": [{
"name": "None",
"description": "",
"help": ""
}]}
Mensuration Capabilities: Basic
Has Histograms: true
Has Colormap: false
Has Multi Dimensions : false
Rendering Rule:
Min Scale: 0
Max Scale: 0
Copyright Text:
Service Data Type: esriImageServiceDataTypeRGB
Min Values: 0, 0, 0
Max Values: 255, 255, 255
Mean Values: 83.58717297156377, 83.58717297156377, 83.58717297156377
Standard Deviation Values: 49.23259880306303, 49.23259727799378, 49.23259676963739
Object ID Field:
Fields:
None
Default Mosaic Method: Center
Allowed Mosaic Methods:
SortField:
SortValue: null
Mosaic Operator: First
Default Compression Quality: 75
Default Resampling Method: Bilinear
Max Record Count: null
Max Image Height: 4100
Max Image Width: 15000
Max Download Image Count: null
Max Mosaic Image Count: null
Allow Raster Function: true
Allow Copy: true
Allow Analysis: true
Allow Compute TiePoints: false
Supports Statistics: false
Supports Advanced Queries: false
Use StandardizedQueries: true
Raster Type Infos:
Name: Raster Dataset
Description: Supports all ArcGIS Raster Datasets
Help:
Has Raster Attribute Table: false
Edit Fields Info: null
Ownership Based AccessControl For Rasters: null
Child Resources:
Info
Histograms
Statistics
Key Properties
Legend
Raster Function Infos
Supported Operations:
Export Image
Identify
Measure
Compute Histograms
Compute Statistics Histograms
Get Samples
Compute Class Statistics
Query Boundary
Compute Pixel Location
Compute Angles
Validate
Project