<?xml version="1.0" encoding="UTF-8" standalone="no"?>
<metadata xml:lang="sv">
<Esri>
<CreaDate>20140402</CreaDate>
<CreaTime>12000500</CreaTime>
<ArcGISFormat>1.0</ArcGISFormat>
<SyncOnce>FALSE</SyncOnce>
<DataProperties>
<itemProps>
<itemName Sync="FALSE">Cf_017_12</itemName>
<imsContentType Sync="TRUE">002</imsContentType>
<nativeExtBox>
<westBL Sync="TRUE">0.000000</westBL>
<eastBL Sync="TRUE">23.434631</eastBL>
<southBL Sync="TRUE">0.000000</southBL>
<northBL Sync="TRUE">23.884336</northBL>
<exTypeCode Sync="TRUE">1</exTypeCode>
</nativeExtBox>
</itemProps>
</DataProperties>
<SyncDate>20140402</SyncDate>
<SyncTime>12000500</SyncTime>
<ModDate>20140402</ModDate>
<ModTime>12000500</ModTime>
</Esri>
<dataIdInfo>
<envirDesc Sync="FALSE">Esri ArcGIS 10.1.1.3143</envirDesc>
<dataLang>
<languageCode Sync="TRUE" value="swe">
</languageCode>
<countryCode Sync="TRUE" value="SWE">
</countryCode>
</dataLang>
<idCitation>
<resTitle Sync="FALSE">sde_burlov.GNG.Cf_017_12</resTitle>
<presForm>
<PresFormCd Sync="TRUE" value="011">
</PresFormCd>
</presForm>
</idCitation>
<spatRpType>
<SpatRepTypCd Sync="TRUE" value="002">
</SpatRepTypCd>
</spatRpType>
<idAbs>Flygfoto 1973 Burlövs kommun.</idAbs>
<searchKeys>
<keyword>Flygfoto 1973 Burlövs kommun.</keyword>
</searchKeys>
<idPurp>Flygfoto 1973 Burlövs kommun.</idPurp>
<idCredit/>
<resConst>
<Consts>
<useLimit/>
</Consts>
</resConst>
</dataIdInfo>
<mdLang>
<languageCode Sync="TRUE" value="swe">
</languageCode>
<countryCode Sync="TRUE" value="SWE">
</countryCode>
</mdLang>
<mdChar>
<CharSetCd Sync="TRUE" value="004">
</CharSetCd>
</mdChar>
<distInfo>
<distFormat>
<formatName Sync="FALSE"/>
</distFormat>
</distInfo>
<mdHrLv>
<ScopeCd Sync="TRUE" value="005">
</ScopeCd>
</mdHrLv>
<mdHrLvName Sync="TRUE">dataset</mdHrLvName>
<spdoinfo>
<rastinfo>
<rasttype Sync="TRUE">Pixel</rasttype>
<rowcount Sync="TRUE">2868</rowcount>
<colcount Sync="TRUE">2814</colcount>
<rastxsz Sync="TRUE">0,008328</rastxsz>
<rastysz Sync="TRUE">0,008328</rastysz>
<rastbpp Sync="TRUE">8</rastbpp>
<vrtcount Sync="TRUE">1</vrtcount>
<rastorig Sync="TRUE">Upper Left</rastorig>
<rastcmap Sync="TRUE">FALSE</rastcmap>
<rastcomp Sync="TRUE">LZ77</rastcomp>
<rastband Sync="TRUE">3</rastband>
<rastdtyp Sync="TRUE">pixel codes</rastdtyp>
<rastifor Sync="TRUE">SDR</rastifor>
<rastplyr Sync="TRUE">TRUE</rastplyr>
</rastinfo>
</spdoinfo>
<spref>
<horizsys>
<planar>
<planci>
<plance Sync="TRUE">row and column</plance>
<coordrep>
<absres Sync="TRUE">0,008328</absres>
<ordres Sync="TRUE">0,008328</ordres>
</coordrep>
</planci>
</planar>
</horizsys>
</spref>
<mdDateSt Sync="TRUE">20140402</mdDateSt>
</metadata>
